BEGIN:VCALENDAR
VERSION:2.0
PRODID:-//IlluminAge WordPress Calendar Plugin//
CALSCALE:GREGORIAN
METHOD:PUBLISH
X-WR-CALNAME:Iowa Health Care Association
X-WR-CALDESC:
X-FROM-URL:https://iowahealthcare.org
BEGIN:VEVENT
URL:https://iowahealthcare.org/frontline-workforce-solutions-retention-supervision-and-staffing-in-long-term-care/
UID:https://iowahealthcare.org/frontline-workforce-solutions-retention-supervision-and-staffing-in-long-term-care/
DTSTAMP:20260421T092220Z
DTSTART: 20260226T190000Z
DTEND: 20260226T220000Z
SUMMARY:Frontline Workforce Solutions - Retention, Supervision and Staffing in Long-Term Care
CONTACT:
LOCATION:Virtual - , 
END:VEVENT
END:VCALENDAR